BEGIN:VCALENDAR
VERSION:2.0
PRODID:-//Plone.org//NONSGML plone.app.event//EN
X-WR-TIMEZONE:US/Central
BEGIN:VEVENT
SUMMARY:Reeves County Library Book Sale
DTSTART;TZID=US/Central:20161210T090000
DTEND;TZID=US/Central:20161210T150000
DTSTAMP:20260426T002353Z
UID:f5d27281a9d1414395a27dd0d24d0fc2@saas_stack_varnish:6080
CONTACT:Anacely Lopez\, (432) 445-5340\, reevescountylibrary2016@gmail.com
CREATED:20161011T162539Z
DESCRIPTION:An annual sale of books from our store.
LAST-MODIFIED:20161011T162629Z
LOCATION:Reeves County Library
URL:https://reevescountylibrary.ploud.net/reeves-county-library-book-sale
END:VEVENT
BEGIN:VTIMEZONE
TZID:US/Central
X-LIC-LOCATION:US/Central
BEGIN:STANDARD
DTSTART:20161106T010000
TZNAME:CST
TZOFFSETFROM:-0500
TZOFFSETTO:-0600
END:STANDARD
END:VTIMEZONE
END:VCALENDAR
