BEGIN:VCALENDAR
VERSION:2.0
PRODID:-//Plone.org//NONSGML plone.app.event//EN
X-WR-TIMEZONE:US/Central
BEGIN:VEVENT
SUMMARY:Story Hour
DTSTART;TZID=US/Central:20170109T100000
DTEND;TZID=US/Central:20170109T110000
DTSTAMP:20260426T002640Z
UID:cd4288ad5bd048e8974995f104104e54@saas_stack_varnish:6080
CONTACT:John Honeyfield\, 432-445-5340\, reevescountylibrary2016@gmail.com
CREATED:20161220T163754Z
DESCRIPTION:An hour of songs\, dancing and fun.
LAST-MODIFIED:20161220T163804Z
LOCATION:Reeves County Library
URL:https://reevescountylibrary.ploud.net/news-events/lib-cal/story-hour-1
END:VEVENT
BEGIN:VTIMEZONE
TZID:US/Central
X-LIC-LOCATION:US/Central
BEGIN:STANDARD
DTSTART:20161106T010000
TZNAME:CST
TZOFFSETFROM:-0500
TZOFFSETTO:-0600
END:STANDARD
END:VTIMEZONE
END:VCALENDAR
