BEGIN:VCALENDAR
VERSION:2.0
PRODID:-//Plone.org//NONSGML plone.app.event//EN
X-WR-TIMEZONE:US/Central
BEGIN:VEVENT
SUMMARY:First Fridays at the Reeves County Library
DTSTART;VALUE=DATE:20170303
DTEND;VALUE=DATE:20170304
DTSTAMP:20260426T002758Z
UID:5a25a300cd1c4fa9a2ec18661548c08e@saas_stack_varnish:6080
RRULE:FREQ=MONTHLY;COUNT=12;BYDAY=+1FR
CONTACT:Anacely Lopez\, 432-445-5340\, reevescountylibrary2016@gmail.com
CREATED:20170208T052616Z
DESCRIPTION:A series of community events occurring on the First Friday of 
 every month.
LAST-MODIFIED:20170208T052624Z
LOCATION:Reeves County Library
URL:https://reevescountylibrary.ploud.net/news-events/lib-cal/first-friday
 s-at-the-reeves-county-library
END:VEVENT
END:VCALENDAR
