BEGIN:VCALENDAR
VERSION:2.0
PRODID:-//Plone.org//NONSGML plone.app.event//EN
X-WR-TIMEZONE:US/Central
BEGIN:VEVENT
SUMMARY:Story Hour
DTSTART;TZID=US/Central:20170221T103000
DTEND;TZID=US/Central:20170221T113000
DTSTAMP:20260426T002647Z
UID:7438c9c7238f4699bf05979c362233f6@saas_stack_varnish:6080
RRULE:FREQ=MONTHLY;COUNT=6;BYDAY=+3TU
EXDATE;TZID=US/Central:20170102T000000
CONTACT:John Honeyfield\, (432)445-5340\, reevescountylibrary2016@gmail.co
 m
CREATED:20161004T190922Z
DESCRIPTION:This is an hour of reading\, singing and fun!  We'll be readin
 g a variety of stories for kids of all ages.  We hope to see you there!
LAST-MODIFIED:20170202T033934Z
LOCATION:Reeves County Library
URL:https://reevescountylibrary.ploud.net/news-events/lib-cal/copy2_of_sto
 ry-hour
END:VEVENT
BEGIN:VTIMEZONE
TZID:US/Central
X-LIC-LOCATION:US/Central
BEGIN:STANDARD
DTSTART:20161106T010000
TZNAME:CST
TZOFFSETFROM:-0500
TZOFFSETTO:-0600
END:STANDARD
END:VTIMEZONE
END:VCALENDAR
