BEGIN:VCALENDAR
VERSION:2.0
PRODID:-//Plone.org//NONSGML plone.app.event//EN
X-WR-TIMEZONE:US/Central
BEGIN:VEVENT
SUMMARY:Mommy and Me Book Club
DTSTART;TZID=US/Central:20161119T100000
DTEND;TZID=US/Central:20161119T110000
DTSTAMP:20260426T020105Z
UID:24fbcd9441d14c498125a43d7b7377f8@saas_stack_varnish:6080
CONTACT:Anacely Lopez\, 432-445-5340\, reevescountylibrary2016@gmail.com
CREATED:20161109T173234Z
DESCRIPTION:An hour of play\, stories and fun for 2 and 3 years olds.  It 
 will be a great opportunity to meet other Mom's and their kids.
LAST-MODIFIED:20161109T173453Z
LOCATION:Reeves County Library
URL:https://reevescountylibrary.ploud.net/mommy-and-me-book-club
END:VEVENT
BEGIN:VTIMEZONE
TZID:US/Central
X-LIC-LOCATION:US/Central
BEGIN:STANDARD
DTSTART:20161106T010000
TZNAME:CST
TZOFFSETFROM:-0500
TZOFFSETTO:-0600
END:STANDARD
END:VTIMEZONE
END:VCALENDAR
