BEGIN:VCALENDAR
VERSION:2.0
PRODID:-//Plone.org//NONSGML plone.app.event//EN
X-WR-TIMEZONE:US/Central
BEGIN:VEVENT
SUMMARY:Election Day
DTSTART;VALUE=DATE:20161108
DTEND;VALUE=DATE:20161109
DTSTAMP:20260426T002018Z
UID:17ad58fed74a43759c8844d6c186bd54@saas_stack_varnish:6080
CONTACT:432-445-5340\, reevescountylibrary2016@gmail.com
CREATED:20161012T161153Z
DESCRIPTION:The Library will be closed.  We apologize for the inconvenienc
 e.
LAST-MODIFIED:20161012T161210Z
LOCATION:Reeves County Library
URL:https://reevescountylibrary.ploud.net/election-day
END:VEVENT
END:VCALENDAR
